BEGIN:VCALENDAR
VERSION:2.0
PRODID:-//Miasto Darłowo - ECPv6.15.20//NONSGML v1.0//EN
CALSCALE:GREGORIAN
METHOD:PUBLISH
X-WR-CALNAME:Miasto Darłowo
X-ORIGINAL-URL:https://www.darlowo.pl
X-WR-CALDESC:Wydarzenia dla Miasto Darłowo
REFRESH-INTERVAL;VALUE=DURATION:PT1H
X-Robots-Tag:noindex
X-PUBLISHED-TTL:PT1H
BEGIN:VTIMEZONE
TZID:Europe/Warsaw
BEGIN:DAYLIGHT
TZOFFSETFROM:+0100
TZOFFSETTO:+0200
TZNAME:CEST
DTSTART:20240331T010000
END:DAYLIGHT
BEGIN:STANDARD
TZOFFSETFROM:+0200
TZOFFSETTO:+0100
TZNAME:CET
DTSTART:20241027T010000
END:STANDARD
BEGIN:DAYLIGHT
TZOFFSETFROM:+0100
TZOFFSETTO:+0200
TZNAME:CEST
DTSTART:20250330T010000
END:DAYLIGHT
BEGIN:STANDARD
TZOFFSETFROM:+0200
TZOFFSETTO:+0100
TZNAME:CET
DTSTART:20251026T010000
END:STANDARD
BEGIN:DAYLIGHT
TZOFFSETFROM:+0100
TZOFFSETTO:+0200
TZNAME:CEST
DTSTART:20260329T010000
END:DAYLIGHT
BEGIN:STANDARD
TZOFFSETFROM:+0200
TZOFFSETTO:+0100
TZNAME:CET
DTSTART:20261025T010000
END:STANDARD
END:VTIMEZONE
BEGIN:VEVENT
DTSTART;TZID=Europe/Warsaw:20250508T170000
DTEND;TZID=Europe/Warsaw:20250508T210000
DTSTAMP:20260425T152357
CREATED:20250507T054611Z
LAST-MODIFIED:20250507T054713Z
UID:10000778-1746723600-1746738000@www.darlowo.pl
SUMMARY:Przegląd Filmów Wojennych
DESCRIPTION:W ramach obchodów 80 lecia polskiego Darłowa z inicjatywy Pani Radnej Renaty Potomskiej polecamy uwadze filmy:godz. 17:00 – Pani od polskiego\, reż. R. Piwowarski > POKAZ PRZEDPREMIEROWY!godz 19:30 – Filip\, reż. M. Kwieciński \n8 maja 2025 \ngodz.17:00WSTĘP WOLNY! \nPobierz stronę do PDF
URL:https://www.darlowo.pl/wydarzenie/przeglad-filmow-wojennych/
LOCATION:zachodniopomorskie
CATEGORIES:80 lat Polskiego Darłowa,Darłowski Ośrodek Kultury,Historia,Kino
ATTACH;FMTTYPE=image/jpeg:https://www.darlowo.pl/assets/494904417-1159329029325890-1848317276898846714-n.jpg
ORGANIZER;CN="Dar%C5%82owski O%C5%9Brodek Kultury im. Leopolda Tyrmanda":MAILTO:kultura@darlowo.pl
END:VEVENT
BEGIN:VEVENT
DTSTART;TZID=Europe/Warsaw:20250508T120000
DTEND;TZID=Europe/Warsaw:20250508T140000
DTSTAMP:20260425T152357
CREATED:20250506T061214Z
LAST-MODIFIED:20250506T064409Z
UID:10000770-1746705600-1746712800@www.darlowo.pl
SUMMARY:80. rocznica zakończenia II Wojny Światowej
DESCRIPTION:Burmistrz Darłowa Arkadiusz Klimowicz ma zaszczyt zaprosić na oficjalne uroczystości w 80. rocznicę zakończenia II Wojny Światowej. Dokładnie osiem dekad temu\, 8 maja 1945 r. został podpisany akt bezwarunkowej kapitulacji III Rzeszy. W 80-lecie tego wydarzenia Miasto Darłowo chce złożyć hołd polskim żołnierzom i obywatelom\, którzy stracili życie podczas największego konfliktu zbrojnego w historii ludzkości. \nZapraszamy mieszkańców\, delegacje\, poczty sztandarowe\, kompanie reprezentacyjne\, jednostki samorządu terytorialnego\, jednostki oświatowe\, stowarzyszenia\, kluby\, koła i Wszystkich zainteresowanych do uczczenia Tej ważnej daty w dziejach Polski i świata. \nSpotkajmy się 8 maja (czwartek) o godz. 12.00 na Placu Marszałka Józefa Piłsudskiego przy tablicach upamiętniających nazwiska weteranów\, kombatantów i żołnierzy walczących na wszystkich frontach światowych wojen i pochowanych na darłowskim cmentarzu. \nW programie przemowa\, Hymn Państwowy i złożenie kwiatów. \nZapraszamy! \nCześć i Chwała Bohaterom! \nPobierz stronę do PDF
URL:https://www.darlowo.pl/wydarzenie/80-rocznice-zakonczenia-ii-wojny-swiatowej/
LOCATION:Plac Marszałka Józefa Piłsudskiego\, plac józefa piłsudskiego\, Darłowo\, zachodniopomorskie\, 76-150
CATEGORIES:80 lat Polskiego Darłowa,Historia,Święta lokalne
ATTACH;FMTTYPE=image/jpeg:https://www.darlowo.pl/assets/80-rocznica.jpg
ORGANIZER;CN="Miasto Dar%C5%82owo":MAILTO:promocja@darlowo.pl
GEO:54.41816426659413;, 16.409017855281228
X-APPLE-STRUCTURED-LOCATION;VALUE=URI;X-ADDRESS=Plac Marszałka Józefa Piłsudskiego plac józefa piłsudskiego Darłowo zachodniopomorskie 76-150;X-APPLE-RADIUS=500;X-TITLE=plac józefa piłsudskiego:geo:, 16.409017855281228,54.41816426659413
END:VEVENT
BEGIN:VEVENT
DTSTART;TZID=Europe/Warsaw:20250508T070000
DTEND;TZID=Europe/Warsaw:20250508T150000
DTSTAMP:20260425T152357
CREATED:20250505T091241Z
LAST-MODIFIED:20250505T091241Z
UID:10000766-1746687600-1746716400@www.darlowo.pl
SUMMARY:Tydzień Bibliotek - święto bibliotek i bibliotekarzy
DESCRIPTION:Serdecznie zapraszamy do wspólnego świętowania – święto bibliotek i bibliotekarzy \nodwiedź nas i zobacz wystawę starych czasopism – podróż do przeszłości poprzez drukowane skarby! \n– Happening Konsorcjum Bibliotek Powiatu Sławieńskiego w Sławnie w godz. 11.00- 13.00 \n8 maja 2025 (czwartek) \nPobierz stronę do PDF
URL:https://www.darlowo.pl/wydarzenie/tydzien-bibliotek-swieto-bibliotek-i-bibliotekarzy/
LOCATION:Miejska Biblioteka Publiczna im. Agnieszki Osieckiej w Darłowie\, Wieniawskiego 19c\, Darłowo\, zachodniopomorskie\, 76-150
CATEGORIES:Biblioteka
ATTACH;FMTTYPE=image/jpeg:https://www.darlowo.pl/assets/tydzien-bibliotek-2025-plakat.jpg
END:VEVENT
BEGIN:VEVENT
DTSTART;TZID=Europe/Warsaw:20250504T190000
DTEND;TZID=Europe/Warsaw:20250504T190000
DTSTAMP:20260425T152357
CREATED:20250505T085408Z
LAST-MODIFIED:20250507T102052Z
UID:10000765-1746385200-1746385200@www.darlowo.pl
SUMMARY:Mecz Darłovia Darłowo vs Ina Goleniów 28. kolejka IV ligi zachodniopomorskiej
DESCRIPTION:W NIEDZIELĘ WSZYSCY NA STADION!Darłovia Darłowo vs Ina GoleniówCzas na kolejne piłkarskie emocje!W niedzielne popołudnie nasza Darłovia podejmie drużynę Iny Goleniów.Pełna mobilizacja – gramy u siebie\, gramy o zwycięstwo!Sędzia główny spotkania: Wiktor Wątroba.Liczymy na Wasz doping\, wsparcie i głośne gardła na trybunach!Razem po 3 punkty!Razem dla Darłovii! \nGodzina: 17:00 | Stadion Miejski w DarłowieDo zobaczenia na stadionie! \nPobierz stronę do PDF
URL:https://www.darlowo.pl/wydarzenie/mecz-darlovia-darlowo-vs-ina-goleniow/
LOCATION:Stadion Miejski w Darłowie
CATEGORIES:Rozrywka,Sport
ATTACH;FMTTYPE=image/jpeg:https://www.darlowo.pl/assets/495386619-1120915466741169-8794502138304477916-n.jpg
END:VEVENT
BEGIN:VEVENT
DTSTART;TZID=Europe/Warsaw:20250503T130000
DTEND;TZID=Europe/Warsaw:20250503T160000
DTSTAMP:20260425T152357
CREATED:20250505T072847Z
LAST-MODIFIED:20250505T072847Z
UID:10000763-1746277200-1746288000@www.darlowo.pl
SUMMARY:IV Runda Mistrzostw Strefy Zachodniej Polski cross country
DESCRIPTION:Dyscyplina Cross Country (w skrócie CC) ma na celu propagowanie sportu motocyklowego oraz rozszerzenie możliwości rywalizacji poza tradycyjnymi konkurencjami motocross i enduro.\n\nMożliwość startów na okazjonalnych trasach zamkniętych pozwala na udział większej liczby zawodników i amatorów bez licencji (zwanych dalej „uczestnikami”) oraz kandydatów do licencji\n\nna pojazdach nie rejestrowanych i w tych regionach Polski\, gdzie dotąd nie organizowano zawodów terenowych.\nDarłówko wschodnie (patelnia)\n03 maja 2025\ngodz 13:00\nZgłoszenia można wysyłać na stronie:\nhttps://zgloszenia.motoresults.pl/2025_cc_mspz_runda4_darlowko\nPobierz stronę do PDF
URL:https://www.darlowo.pl/wydarzenie/iv-runda-mistrzostw-strefy-zachodniej-polski-cross-country/
LOCATION:Patelnia Darłówko Wschodnie\, Al. Jana Pawła II\, Darłowo\, 76-150
CATEGORIES:Rozrywka,Sport
ATTACH;FMTTYPE=image/jpeg:https://www.darlowo.pl/assets/491901459-1064755925683026-2430247306816546895-n.jpg
END:VEVENT
BEGIN:VEVENT
DTSTART;TZID=Europe/Warsaw:20250503T120000
DTEND;TZID=Europe/Warsaw:20250503T133000
DTSTAMP:20260425T152357
CREATED:20250428T082337Z
LAST-MODIFIED:20250428T082337Z
UID:10000760-1746273600-1746279000@www.darlowo.pl
SUMMARY:3 Maja w Darłowie
DESCRIPTION:Starostwo Powiatowe w Sławnie\, Miasto Darłowo i Gmina Darłowo zapraszają na oficjalne uroczystości 234. Rocznicy Uchwalenia Konstytucji 3 Maja.  \nObchody tradycyjnie rozpoczniemy Mszą Święta za Ojczyznę w Kościele Mariackim (godz. 12.00). Po nabożeństwie uczestnicy w przemarszu i towarzystwie kompanii reprezentacyjnych\, pocztów sztandarowych w akompaniamencie Orkiestry Dętej ze Sławna udadzą się na Plac Marszałka Józefa Piłsudskiego. \nO godz. 13.00 przy Pomniku 1000-lecia Państwa Polskiego zaplanowano Manifestację Patriotyczną. Przy obelisku zostanie odegrany Hymn Państwowy\, oficjele dokonają przemówień\, Kompania Honorowa Garnizonu Darłowo wykonana salwę honorową\, a to wszystko zwieńczy symboliczne złożenie kwiatów dla uczczenia Święta Konstytucji. \nPobierz stronę do PDF
URL:https://www.darlowo.pl/wydarzenie/3-maja-w-darlowie-2/
LOCATION:zachodniopomorskie
CATEGORIES:80 lat Polskiego Darłowa,Święta lokalne
ATTACH;FMTTYPE=image/jpeg:https://www.darlowo.pl/assets/3-maja-4.jpg
END:VEVENT
BEGIN:VEVENT
DTSTART;TZID=Europe/Warsaw:20250503T093000
DTEND;TZID=Europe/Warsaw:20250503T130000
DTSTAMP:20260425T152357
CREATED:20250422T113823Z
LAST-MODIFIED:20250428T071516Z
UID:10000746-1746264600-1746277200@www.darlowo.pl
SUMMARY:Turniej szachowy z okazji uchwalenia Konstytucji 3 maja
DESCRIPTION:Miasto Darłowo serdecznie zaprasza wszystkich miłośników królewskiej gry na Turniej Szachowy\, który odbędzie się3 maja 2025 \, o godz. 10:00w siedzibie Polskiego Związku Emerytów\, Rencistów i Inwalidów \nprzy ul. 1 Maja 3 w Darłowie. \nZapisy od godz. 9:30 – prosimy o punktualne przybycie.Do zobaczenia przy szachownicy! \nPobierz stronę do PDF
URL:https://www.darlowo.pl/wydarzenie/turniej-szachowy-z-okazji-uchwalenia-konstytucji-3-maja-2/
LOCATION:Siedziba Związku Emerytów\, Rencistów i Inwalidów\, 1 Maja 3\, Darłowo\, Zachodniopomorskie\, 76-150\, Poland
CATEGORIES:80 lat Polskiego Darłowa,Rozrywka,Święta Państwowe
ATTACH;FMTTYPE=image/jpeg:https://www.darlowo.pl/assets/bez-nazwy-6.jpg
ORGANIZER;CN="Miasto Dar%C5%82owo":MAILTO:promocja@darlowo.pl
END:VEVENT
BEGIN:VEVENT
DTSTART;TZID=Europe/Warsaw:20250502T080000
DTEND;TZID=Europe/Warsaw:20250502T130000
DTSTAMP:20260425T152357
CREATED:20250319T082953Z
LAST-MODIFIED:20250319T082953Z
UID:10000695-1746172800-1746190800@www.darlowo.pl
SUMMARY:Spływ Kajakowy Z Okazji Święta Flagi
DESCRIPTION:Dzień Flagi Rzeczypospolitej Polskiej w kalendarzu przypada na 2 maja. Z tej okazji Miasto Darłowo organizuje już drugą edycję spływu kajakowego. Popłyniemy udekorowani w biało-czerwone barwy pod hasłem „EKO PATRIOCI”. To budowanie świadomości i edukacja o zapobieganiu powstawania odpadów\, czyli ukłon w kierunku matki Ziemi. Uczestnicy zostaną wyposażeni również w specjalne worki\, które podczas spływu będą mogli wypełniać napotkanymi na rzece Grabowej odpadami. Dla duetu\, który zbierze ich najwięcej czekać będzie specjalna nagroda. Na mecie przygotowany dla uczestników będzie posiłek\, ognisko\, a także zabawa w postaci ekologicznego quizu\, który poza aspektem edukacyjnym będzie szansą do zdobycia ciekawych gadżetów. Zaczynamy o godz. 8.00 – przejazdem autokarem do Porzecza (zbiórka na parkingu przy supermarkecie Netto w Darłowie. Około godz. 9.00 – start spływu w kierunku Darłowa rzeką Grabową. Ok. godz. 12.00 dopłynięcie do Mariny Darłowo – Zarząd Portu. Zapisy do 28 kwietnia pod adresem mailowym: kajakidarlowo@gmail.com \nIMIĘ\, NAZWISKO\, WIEK\, NR TELEFONU \nKajaki są dwuosobowe (zgłaszamy się w parach). \nLiczba miejsc ograniczona! Decyduje kolejność zgłoszeń. Udział jest bezpłatny. Osoby poniżej 18 roku życia muszą płynąć z osobą pełnoletnią. W przypadku złych warunków pogodowych organizator zastrzega sobie prawo do odwołania wydarzenia. \no2 maja 2025 \ngodz. 08:00 \nOrganizator: \nMiasto Darłowo\, Referat Gospodarki Odpadami\, Referat Sportu i Rekreacji\, Biuro Promocji Miasta\, Biuro Burmistrza. \nPobierz stronę do PDF
URL:https://www.darlowo.pl/wydarzenie/splyw-kajakowy-z-okazji-swieta-flagi/
LOCATION:zachodniopomorskie
CATEGORIES:Rozrywka,Sprawy społeczne,Święta lokalne,Święta Państwowe
ATTACH;FMTTYPE=image/jpeg:https://www.darlowo.pl/assets/ekoooo.jpg
END:VEVENT
BEGIN:VEVENT
DTSTART;TZID=Europe/Warsaw:20250429T170000
DTEND;TZID=Europe/Warsaw:20250429T183000
DTSTAMP:20260425T152357
CREATED:20250428T064018Z
LAST-MODIFIED:20250428T064018Z
UID:10000758-1745946000-1745951400@www.darlowo.pl
SUMMARY:Wystawa ceramiki i malarstwa Anny i Grzegorza Machłaj "Pod wspólnym dachem"
DESCRIPTION:Serdecznie zapraszamy na otwarcie wystawy ceramiki i malarstwa Anny i Grzegorza Machłaj “Pod wspólnym dachem”. W Zamku Książąt Pomorskich – Muzeum w Darłowie\,\n“Wiele lat temu spotkaliśmy się na przystanku SZTUKA. Razem podążamy w naszej wspólnej podróży. Choć wyglądamy przez różne okna\, czasem w innym kierunku\, to zawsze łączy nas rozmowa\, próba wzajemnego zrozumienia\, czułość i nieustający apetyt na kolor\, kształt\, formę\, na przygodę” “Podróże mogą być dalekie\, bliskie\, mniej lub bardziej odkrywcze; każde działanie twórcze jest podróżą w nieznane\, jest podróżą ku światom\, które kryją się w nas.Dlaczego tworzyć? Po to by zobaczyć\, odczuwać to czego nie można poczuć bez świadomości mocy sprawczej. Przyjemność bycia w najpiękniejszym ze światów.\n\nZamek Książąt Pomorskich – Muzeum w Darłowie\nsala wystaw czasowych “7”Zapraszamy 29 kwietnia 2025 r.\ngodz. 17.00wstęp wolny\nPobierz stronę do PDF
URL:https://www.darlowo.pl/wydarzenie/wystawa-ceramiki-i-malarstwa-anny-i-grzegorza-machlaj-pod-wspolnym-dachem/
LOCATION:Zamek Książąt Pomorskich\, Zamkowa 4\, Darłowo\, 76-150
CATEGORIES:Wernisaż
ATTACH;FMTTYPE=image/jpeg:https://www.darlowo.pl/assets/493883991-1225592992910369-6253285247588188246-n.jpg
ORGANIZER;CN="Zamek Ksi%C4%85%C5%BC%C4%85t Pomorskich w Dar%C5%82owie":MAILTO:biuro@zamekdarlowo.pl
END:VEVENT
BEGIN:VEVENT
DTSTART;TZID=Europe/Warsaw:20250426T150000
DTEND;TZID=Europe/Warsaw:20250426T170000
DTSTAMP:20260425T152357
CREATED:20250506T102118Z
LAST-MODIFIED:20250506T102455Z
UID:10000776-1745679600-1745686800@www.darlowo.pl
SUMMARY:Darłovia Darłowo – Biali Sądów 26. kolejka IV ligi zachodniopomorskiej
DESCRIPTION:Darłovia Darłowo – Biali Sądów \n26 kwietnia godz. 13:00 – Stadion Miejski w Darłowie \nPobierz stronę do PDF
URL:https://www.darlowo.pl/wydarzenie/darlovia-darlowo-biali-sadow-26-kolejka-iv-ligi-zachodniopomorskiej/
LOCATION:Stadion Miejski w Darłowie
CATEGORIES:Rozrywka,Sport
ATTACH;FMTTYPE=image/jpeg:https://www.darlowo.pl/assets/492372631-1114754410690608-3494064903549387140-n.jpg
ORGANIZER;CN="Miasto Dar%C5%82owo":MAILTO:promocja@darlowo.pl
END:VEVENT
BEGIN:VEVENT
DTSTART;TZID=Europe/Warsaw:20250426T110000
DTEND;TZID=Europe/Warsaw:20250426T140000
DTSTAMP:20260425T152357
CREATED:20250415T064306Z
LAST-MODIFIED:20250415T064306Z
UID:10000740-1745665200-1745676000@www.darlowo.pl
SUMMARY:Pierwsze Spotkanie Klubu Gier Fabularnych (RPG)
DESCRIPTION:Lubisz grać? Interesujesz się grami fabularnymi? A może dopiero chcesz rozpocząć swoją przygodę z RPG? Mamy coś dla Ciebie!\n\n\nZapraszamy na pierwsze\, organizacyjne spotkanie Klubu Gier Fabularnych\, które poprowadzi pan Grzegorz – fan RPG z pasją i doświadczeniem. To właśnie z jego inicjatywy powstaje ten Klub!\n\n\nCzekamy na osoby w wieku 14+\, które chcą wspólnie zanurzyć się w świat wyobraźni\, przygód i opowieści tworzonych przy stole.\nNie musisz mieć doświadczenia – wystarczy ciekawość i chęć dobrej zabawy!\nDo zobaczenia w bibliotece!\n\n26 kwietnia (sobota)\ngodz. 11:00\n\n\n\nPobierz stronę do PDF
URL:https://www.darlowo.pl/wydarzenie/pierwsze-spotkanie-klubu-gier-fabularnych-rpg/
LOCATION:Miejska Biblioteka Publiczna im. Agnieszki Osieckiej w Darłowie\, Wieniawskiego 19c\, Darłowo\, zachodniopomorskie\, 76-150
CATEGORIES:Biblioteka,Rozrywka,Spotkania
ATTACH;FMTTYPE=image/jpeg:https://www.darlowo.pl/assets/klub-gier-fabularnych.jpg
END:VEVENT
BEGIN:VEVENT
DTSTART;TZID=Europe/Warsaw:20250426T110000
DTEND;TZID=Europe/Warsaw:20250426T120000
DTSTAMP:20260425T152357
CREATED:20241018T091921Z
LAST-MODIFIED:20241018T091921Z
UID:10000581-1745665200-1745668800@www.darlowo.pl
SUMMARY:Runda Króla Eryka sezon 2024/2025
DESCRIPTION:To już czwarty rok z rzędu Darłowskie Charty zapraszają wszystkich chcących aktywnie spędzać czas na wspólne bieganie w Parku Conrada w Darłowie. Udział w zawodach jest bezpłatny\, zapisać się można bezpośrednio przed startem każdej z rund. Płaska trasa o dystansie 2\,5km jest idealna zarówno dla tych chcących zaliczyć szybki akcent biegowy jak również dla tych\, którzy dopiero z bieganiem się zaprzyjaźniają. Wszyscy bez względu na wiek i stopień zaawansowania są mile widziani. Spośród tych którzy zaliczą minimum 8 z 13 Rund wyłonieni zostaną zwycięzcy\, a ich dekoracja odbędzie się w maju podczas Biegu Króla Eryka. \nPobierz stronę do PDF
URL:https://www.darlowo.pl/wydarzenie/runda-krola-eryka-sezon-2024-2025-2/2025-04-26/
LOCATION:zachodniopomorskie
CATEGORIES:Sport
ATTACH;FMTTYPE=image/jpeg:https://www.darlowo.pl/assets/runda-krola-eryka-2024-25.jpg
END:VEVENT
BEGIN:VEVENT
DTSTART;TZID=Europe/Warsaw:20250425T160000
DTEND;TZID=Europe/Warsaw:20250425T170000
DTSTAMP:20260425T152357
CREATED:20250402T065938Z
LAST-MODIFIED:20250402T065938Z
UID:10000706-1745596800-1745600400@www.darlowo.pl
SUMMARY:Warsztaty Wędkarsko-Przyrodnicze
DESCRIPTION:Serdecznie zapraszamy na kolejne spotkanie czwartej edycji Warsztatów Wędkarsko-Przyrodniczych prowadzonych przez Darłowskie Towarzystwo Turystyczno-Wędkarskie. \nNa spotkaniach będą zajęcia praktyczne\, pokazy i nauka obsługi sprzętu wędkarskiego\, przygotowanie do egzaminu na kartę wędkarską. \n25 kwietnia 2025\, \ngodz. 16:00 \nSKŁO 44 \nWięcej informacji pod numerem telefonu: 603 118 422. \nPobierz stronę do PDF
URL:https://www.darlowo.pl/wydarzenie/warsztaty-wedkarsko-przyrodnicze-7/
LOCATION:zachodniopomorskie
CATEGORIES:Warsztaty
ATTACH;FMTTYPE=image/jpeg:https://www.darlowo.pl/assets/plakat-2025-kwiecien.jpg
END:VEVENT
BEGIN:VEVENT
DTSTART;TZID=Europe/Warsaw:20250425T150000
DTEND;TZID=Europe/Warsaw:20250425T170000
DTSTAMP:20260425T152357
CREATED:20250411T061734Z
LAST-MODIFIED:20250415T082029Z
UID:10000737-1745593200-1745600400@www.darlowo.pl
SUMMARY:Z życia (nie)idealnego nastolatka – kwietniowe spotkanie Klubiku Książki
DESCRIPTION:Hej\, młodzi czytelnicy!\n\n\nMacie czasem wrażenie\, że życie nastolatka to nieustanny rollercoaster? Jeśli tak – koniecznie wpadnijcie na nasze kwietniowe spotkanie Klubiku Książki!\n\n\nTym razem zanurzymy się w „Zapiski szczęściarza” Rafała Witka – książkę pełną humoru\, emocji i przemyśleń\, które są (aż za) dobrze znane każdemu\, kto ma naście lat. Razem porozmawiamy o codziennych trudnościach\, małych radościach i tym\, co to właściwie znaczy być „szczęściarzem”.\n\n\nZapraszamy wszystkich\, którzy chcą pogadać\, pośmiać się i znaleźć cząstkę siebie w książce.\nNie musisz być idealny – wystarczy\, że jesteś sobą!\n\n\nDo zobaczenia!\n25 kwietnia\ngodz. 15:00\nMiejska Biblioteka im. Agnieszki Osieckiej w Darłowie ul. Wieniawskiego 19C\n\n\nPobierz stronę do PDF
URL:https://www.darlowo.pl/wydarzenie/z-zycia-nieidealnego-nastolatka-kwietniowe-spotkanie-klubiku-ksiazk/
LOCATION:Miejska Biblioteka Publiczna im. Agnieszki Osieckiej w Darłowie\, Wieniawskiego 19c\, Darłowo\, zachodniopomorskie\, 76-150
CATEGORIES:Biblioteka,Kultura,Spotkania
ATTACH;FMTTYPE=image/jpeg:https://www.darlowo.pl/assets/490156971-962149182746323-1955595373250398932-n.jpg
END:VEVENT
END:VCALENDAR